BEGIN:VCALENDAR
VERSION:2.0
PRODID:-//81.169.197.35//NONSGML kigkonsult.se iCalcreator 2.20//
CALSCALE:GREGORIAN
METHOD:PUBLISH
X-WR-TIMEZONE:Europe/Berlin
BEGIN:VEVENT
UID:event237@Für Bauschheim e.V.
DTSTAMP:20260419T122155Z
CATEGORIES:Natur- und Vogelschutzverein Bauschheim e.V.
DESCRIPTION:Vogelstimmenwanderung\nKategorie: Natur- und Vogelschutzverein 
 Bauschheim e.V.\nICS-Link: https://fuerbauschheim.de/index.php?option=com_
 jem&view=event&id=237:vogelstimmenwanderung\n
DTSTART;TZID=Europe/Berlin:20260426T073000
DTEND;TZID=Europe/Berlin:20260426T120000
LOCATION:Parkplatz Bauschheimer Friedhof\,Germany
SUMMARY:Vogelstimmenwanderung
URL:https://fuerbauschheim.de/index.php?option=com_jem&view=event&id=237:vo
 gelstimmenwanderung
END:VEVENT
BEGIN:VEVENT
UID:event239@Für Bauschheim e.V.
DTSTAMP:20260419T122155Z
CATEGORIES:Natur- und Vogelschutzverein Bauschheim e.V.
DESCRIPTION:Jahresabschlusswanderung 2026\nKategorie: Natur- und Vogelschut
 zverein Bauschheim e.V.\nICS-Link: https://fuerbauschheim.de/index.php?opt
 ion=com_jem&view=event&id=239:jahresabschlusswanderung-2026\n
DTSTART;TZID=Europe/Berlin:20261230T130000
DTEND;TZID=Europe/Berlin:20261230T160000
LOCATION:Parkplatz Bauschheimer Friedhof\,Germany
SUMMARY:Jahresabschlusswanderung 2026
URL:https://fuerbauschheim.de/index.php?option=com_jem&view=event&id=239:ja
 hresabschlusswanderung-2026
END:VEVENT
BEGIN:VEVENT
UID:event238@Für Bauschheim e.V.
DTSTAMP:20260419T122155Z
CATEGORIES:Natur- und Vogelschutzverein Bauschheim e.V.
DESCRIPTION:Tag der Offen Tür 2026\nKategorie: Natur- und Vogelschutzverein
  Bauschheim e.V.\nICS-Link: https://fuerbauschheim.de/index.php?option=com
 _jem&view=event&id=238:tag-der-offen-tuer-2026\n
DTSTART;TZID=Europe/Berlin:20260801T150000
DTEND;TZID=Europe/Berlin:20260802T170000
LOCATION:Vogelschutzgebiet 'Im Schacht'\,Germany
SUMMARY:Tag der Offen Tür 2026
URL:https://fuerbauschheim.de/index.php?option=com_jem&view=event&id=238:ta
 g-der-offen-tuer-2026
END:VEVENT
END:VCALENDAR